BEGIN:VCALENDAR
VERSION:2.0
PRODID:-//wp-events-plugin.com//7.2.3.1//EN
BEGIN:VEVENT
UID:14@aspasso.org
DTSTART:20260208T074500Z
DTEND:20260208T171500Z
DTSTAMP:20260119T100235Z
URL:https://aspasso.org/it/events/a-spasso-a-bologna/
SUMMARY:A S’passo a Bologna
DESCRIPTION:Faremo un tour classico alla scoperta dei luoghi più significa
 tivi del centro storico: le 2 piazze\, ingresso in Palazzo Comunale\, ingr
 esso in San Petronio\, passeggiata tra torri e portici\, l'università in
  esterno\, la più antica del mondo occidentale\, Santo Stefano con ingres
 so in basilica.\n\nCapo gita: Silvia\nOrario e luogo di ritrovo:\n\n 	h 7.
 45 Stazione di Padova con partenza del treno h 8.00 circa\n 	in alternativ
 a direttamente alla stazione di Bologna alle h. 9.50 (opzione da segnalare
  in segreteria entro 48h dal viaggio)\n\nDettagli:\n\n 	viaggio in treno f
 ino a Bologna\n 	visita guidata al centro storico\n 	soste libera per pran
 zo\n 	h.17.00 circa rientro per Padova\n\nLa quota comprende:\n\n 	guida 
  autorizzata\n 	offerte varie\n 	accompagnatore\n\nLa quota non comprende:
 \n\n 	pranzo\n 	biglietti del treno\n 	quanto non incluso alla voce "la qu
 ota comprende"\n\nClicka qui per vedere il regolamento completo delle gite
  e le condizioni di pagamento e rimborso (si aprirà una nuova pagina)
ATTACH;FMTTYPE=image/jpeg:https://aspasso.org/it/wp-content/uploads/2025/1
 2/Bologna_RDX.jpg
CATEGORIES:Culturali,Eventi
LOCATION:Bologna\, Città\, Bologna\, Emilia Romagna\, Italia
X-APPLE-STRUCTURED-LOCATION;VALUE=URI;X-ADDRESS=Città\, Bologna\, Emilia R
 omagna\, Italia;X-APPLE-RADIUS=100;X-TITLE=Bologna:geo:0,0
END:VEVENT
END:VCALENDAR