BEGIN:VCALENDAR
VERSION:2.0
PRODID:-//wp-events-plugin.com//7.2.3.1//EN
BEGIN:VEVENT
UID:13@aspasso.org
DTSTART:20260605T203000Z
DTEND:20260605T230000Z
DTSTAMP:20251215T110956Z
URL:https://aspasso.org/it/events/a-spasso-a-padova-navigando-nella-citta-
 dacque/
SUMMARY:A S’passo a Padova navigando nella “città d’acque”
DESCRIPTION:Escursione in barca all’imbrunire\, lungo i canali della citt
 à. Gita tra i navigli attorno alla città di Padova con visita alla cinta
  muraria\, ai bastioni e alle porte medievali\, visti da un’insolita pro
 spettiva.\nNavigheremo il tratto navigabile del Piovego\, saranno illustra
 ti dal nostro capitano i luoghi più suggestivi di questo magnifico percor
 so.\nConsigliamo un abbigliamento sportivo e scarpe comode.\n\nCapo gita: 
 Silvia\nOrario e luogo di ritrovo: h 20.15 davanti alla statua di Garibald
 i all’ingresso dei giardini dell’Arena corso Garibaldi.\n\nDettagli:\n
 \n 	imbarco su barca privata h. 20.30 circa\n 	sbarco h. 22.30 circa\n\nLa
  quota comprende:\n\n 	navigazione con spiegazione a cura del Capitano\n 	
 accompagnatore\n 	biglietti\n\nLa quota non comprende:\n\n 	quanto non inc
 luso alla voce "la quota comprende"\n\nClicka qui per vedere il regolament
 o completo delle gite e le condizioni di pagamento e rimborso (si aprirà 
 una nuova pagina)
ATTACH;FMTTYPE=image/jpeg:https://aspasso.org/it/wp-content/uploads/2025/1
 2/a62a3d21-1892-4f91-990c-6ae1aeb6ef92-image.jpg
CATEGORIES:Culturali,Eventi
LOCATION:Padova\, Città\, Padova\, PD\, Veneto\, Italia
X-APPLE-STRUCTURED-LOCATION;VALUE=URI;X-ADDRESS=Città\, Padova\, PD\, Vene
 to\, Italia;X-APPLE-RADIUS=100;X-TITLE=Padova:geo:0,0
END:VEVENT
END:VCALENDAR