BEGIN:VCALENDAR
VERSION:2.0
PRODID:-//wp-events-plugin.com//7.2.3.1//EN
BEGIN:VEVENT
UID:6@aspasso.org
DTSTART:20260328T153000Z
DTEND:20260328T193000Z
DTSTAMP:20260223T153917Z
URL:https://aspasso.org/it/events/a-spasso-a-palazzo-pisani-e-al-conservat
 orio-di-venezia/
SUMMARY:A S’passo a Palazzo Pisani e al Conservatorio di Venezia
DESCRIPTION:Sei mai stato sulla terrazza più alta di Venezia?\nSia che sia
 te amanti del cinema\, appassionati di storia o semplicemente in cerca di 
 un’esperienza unica e indimenticabile\, Palazzo Pisani vi accoglie a por
 te aperte\, pronto a svelarvi i suoi tesori e a lasciarvi incantati dalla 
 sua bellezza senza tempo.\nNon perdete l’opportunità di visitare una de
 lle location più iconiche di Venezia e di lasciarvi trasportare in un via
 ggio indimenticabile tra storia\, cinema e fascino veneziano!\n\nCapo gita
 : Silvia\nOrario e luogo di ritrovo: 15:30 stazione Santa Lucia a Venezia 
 uscendo sotto la scalinata a destra.\n\nDettagli:\n\n 	ritrovo in stazione
 \n 	passeggiata fino al Conservatorio\n 	visita guidata\n 	visita alla ter
 razza panoramica\n 	aperitivo facoltativo in qualche "bacaro"\n\nLa quota 
 comprende:\n\n 	guida autorizzata\n 	accompagnatore\n 	ingresso a Palazzo 
 Pisani\n 	accesso alla Terrazza Panoramica di Palazzo Pisani “Venice on 
 Top”\n\nLa quota non comprende:\n\n 	quanto non incluso alla voce "la qu
 ota comprende"\n\nClicka qui per vedere il regolamento completo delle gite
  e le condizioni di pagamento e rimborso (si aprirà una nuova pagina)
ATTACH;FMTTYPE=image/jpeg:https://aspasso.org/it/wp-content/uploads/2025/1
 2/terrazza-panoramica-venezia-tramonto.jpg
CATEGORIES:Culturali,Eventi
LOCATION:Venezia\, Isole Lagunari\, Venezia\, VE\, Veneto\, Italia
X-APPLE-STRUCTURED-LOCATION;VALUE=URI;X-ADDRESS=Isole Lagunari\, Venezia\, 
 VE\, Veneto\, Italia;X-APPLE-RADIUS=100;X-TITLE=Venezia:geo:0,0
END:VEVENT
END:VCALENDAR