BEGIN:VCALENDAR
VERSION:2.0
PRODID:-//wp-events-plugin.com//7.2.3.1//EN
BEGIN:VEVENT
UID:5@aspasso.org
DTSTART:20260315T093000Z
DTEND:20260315T120000Z
DTSTAMP:20260312T145653Z
URL:https://aspasso.org/it/events/a-spasso-al-palazzo-ducale-a-venezia/
SUMMARY:A S’passo al Palazzo Ducale a Venezia
DESCRIPTION:Continuando il nostro percorso nelle bellezze Veneziane\, non p
 oteva mancare il Palazzo Ducale. Con una bella passeggiata arriveremo a Pi
 azza San Marco\, dove troveremo il Palazzo in tutto il suo splendore.\nAnt
 icamente era anche il Palazzo Dogale in quanto sede del doge\, uno dei sim
 boli della città di Venezia e capolavoro del gotico veneziano.\n\nCapo gi
 ta: Silvia\nOrario e luogo di ritrovo: 9:30 stazione Santa Lucia a Venezia
  uscendo sotto la scalinata a destra.\n\nDettagli:\n\n 	ritrovo in stazion
 e\n 	passeggiata fino a Piazza San Marco\n 	visita guidata al Palazzo Duca
 le con guida autorizzata\n\nLa quota comprende:\n\n 	guida locale\n 	accom
 pagnatore\n 	ingresso al Palazzo Ducale\n 	auricolari\n\nLa quota non comp
 rende:\n\n 	quanto non incluso alla voce "la quota comprende"\n\nClicka qu
 i per vedere il regolamento completo delle gite e le condizioni di pagamen
 to e rimborso (si aprirà una nuova pagina)
ATTACH;FMTTYPE=image/jpeg:https://aspasso.org/it/wp-content/uploads/2025/1
 2/palazzo_ducale_RDX.jpg
CATEGORIES:Culturali,Eventi
LOCATION:Venezia - Palazzo Ducale\, Palazzo Ducale\, Venezia\, VE\, Italia
X-APPLE-STRUCTURED-LOCATION;VALUE=URI;X-ADDRESS=Palazzo Ducale\, Venezia\, 
 VE\, Italia;X-APPLE-RADIUS=100;X-TITLE=Venezia - Palazzo Ducale:geo:0,0
END:VEVENT
END:VCALENDAR