BEGIN:VCALENDAR
VERSION:2.0
PRODID:-//wp-events-plugin.com//7.2.3.1//EN
BEGIN:VEVENT
UID:9@aspasso.org
DTSTART:20260425T160000Z
DTEND:20260425T180000Z
DTSTAMP:20260408T132105Z
URL:https://aspasso.org/it/events/a-spasso-al-portello-sulle-tracce-della-
 partigiana-maria-zonta/
SUMMARY:A S’passo al Portello sulle tracce della partigiana Maria Zonta
DESCRIPTION:Per il 25 aprile quest’anno rendiamo omaggio a una donna intr
 epida e coraggiosa.\n\nUna passeggiata per celebrare la Liberazione\, un c
 ammino nella memoria del quartiere.\nDall’ex Snia Viscosa (oggi Parco Eu
 ropa) ricorderemo la partigiana Maria Zonta\, deportata a Ravensbrück: an
 che se non è più tra noi\, cammineremo come se potessimo ascoltare ancor
 a la sua voce\, seguendo il filo del suo coraggio e della sua storia.\nCon
  noi Claudio Zoppini\, scrittore padovano autore del libro "Fuori tutte! M
 emorie di un territorio sulle tracce di Maria Zonta operaia e partigiana\,
  Cleup Editore\, 2022"\, che ci guiderà nei luoghi del Portello più lega
 ti alla sua vicenda.\n\nCapo gita: Viviana\nOrario e luogo di ritrovo: 16:
 00 parco Europa (Padova)\n\nDettagli:\n\n 	passeggiata dal Parco Europa al
  Portello accompagnati dallo scrittore Claudio Zoppini\n 	previsto aperiti
 vo (opzionale\, su prenotazione)\n\nLa quota comprende:\n\n 	accompagnator
 e\n\nLa quota non comprende:\n\n 	aperitivo (opzionale\, su prenotazione)\
 n 	quanto non incluso alla voce "la quota comprende"\n\nClicka qui per ved
 ere il regolamento completo delle gite e le condizioni di pagamento e rimb
 orso (si aprirà una nuova pagina)
ATTACH;FMTTYPE=image/jpeg:https://aspasso.org/it/wp-content/uploads/2025/1
 2/Porta_portello_1.jpg
CATEGORIES:Culturali,Eventi
LOCATION:Padova\, Città\, Padova\, PD\, Veneto\, Italia
X-APPLE-STRUCTURED-LOCATION;VALUE=URI;X-ADDRESS=Città\, Padova\, PD\, Vene
 to\, Italia;X-APPLE-RADIUS=100;X-TITLE=Padova:geo:0,0
END:VEVENT
END:VCALENDAR