BEGIN:VCALENDAR
VERSION:2.0
PRODID:-//wp-events-plugin.com//7.2.3.1//EN
BEGIN:VEVENT
UID:10@aspasso.org
DTSTART:20260510T073000Z
DTEND:20260510T180000Z
DTSTAMP:20260223T153656Z
URL:https://aspasso.org/it/events/a-spasso-al-vittoriale-e-a-salo/
SUMMARY:A S’passo al Vittoriale e a Salò
DESCRIPTION:Una gita in Pullman al Vittoriale degli Italiani\, un complesso
  di edifici\, vie\, piazze\, un teatro all'aperto\, giardini e corsi d'acq
 ua eretto tra il 1921 e il 1938 a Gardone Riviera\, sulla sponda bresciana
  del lago di Garda. Committente del complesso fu il poeta e romanziere Gab
 riele d'Annunzio\, che vi è sepolto.\nNel pomeriggio faremo una passeggia
 ta "lungo lago" nella splendida Salò\, famosa per essere stata la "Repubb
 lica di Salò" durante la seconda guerra mondiale.\n\nCapo gita: Silvia\nO
 rario e luogo di ritrovo: h. 7.30 capolinea nord tram Padova\n\nDettagli:\
 n\n 	viaggio in Pullman GT privato fino al Vittoriale degli Italiani\n 	vi
 sita guidata alla casa di D'Annunzio\n 	sosta libera per pranzo\n 	pomerig
 gio passeggiata a Salò\n 	h.17.00 circa rientro per Padova\n\nLa quota co
 mprende:\n\n 	guida al Vittoriale\n 	accompagnatore\n 	biglietti ingresso 
 Vittoriale\n 	biglietto trasporto pullman\n\nLa quota non comprende:\n\n 	
 quanto non incluso alla voce "la quota comprende"\n\nClicka qui per vedere
  il regolamento completo delle gite e le condizioni di pagamento e rimbors
 o (si aprirà una nuova pagina)
ATTACH;FMTTYPE=image/jpeg:https://aspasso.org/it/wp-content/uploads/2025/1
 2/Vittoriale_il_complesso_monumentale.jpg
CATEGORIES:Culturali,Eventi
LOCATION:Vittoriale degli Italiani\, via Vittoriale\, Gardone Riviera\, BS\
 , 25083\, Lombardia\, Italia
X-APPLE-STRUCTURED-LOCATION;VALUE=URI;X-ADDRESS=via Vittoriale\, Gardone Ri
 viera\, BS\, 25083\, Lombardia\, Italia;X-APPLE-RADIUS=100;X-TITLE=Vittori
 ale degli Italiani:geo:0,0
END:VEVENT
END:VCALENDAR