BEGIN:VCALENDAR
VERSION:2.0
PRODID:-//wp-events-plugin.com//7.2.3.1//EN
BEGIN:VEVENT
UID:3@aspasso.org
DTSTART:20260222T110000Z
DTEND:20260222T160000Z
DTSTAMP:20260206T163401Z
URL:https://aspasso.org/it/events/a-spasso-allisola-di-san-lazzaro-degli-a
 rmeni/
SUMMARY:A S’passo all’isola di San Lazzaro degli Armeni
DESCRIPTION:Faremo una visita guidata all’interno dell’isola degli Arme
 ni. E’una piccola isola dove è presente una comunità dei frati dell’
 ordine dei Mekhitarist\, è considerata uno dei centri mondiali più impor
 tanti per la cultura armena. All’interno risiede una delle biblioteche p
 iù antiche e ricche al mondo con circa 4500 manoscritti.\n\nCapo gita: Si
 lvia\nOrario e luogo di ritrovo:\n\n 	h 11.00 in stazione Santa Lucia a Ve
 nezia per trasferimento a piedi a San Marco\n 	in opzione h 12.45 a San Ma
 rco - pontile San Zaccaria (B)\n 	termine gita h. 16.00 a San Marco\n\nDet
 tagli:\n\n 	imbarco con mezzi pubblici (serve la carta Venezia/imob oppure
  biglietto del vaporetto)\, direttamente dalla stazione\n 	passeggiata all
 ’interno dell’isola\n 	visita guidata con guida autorizzata\n\nLa quot
 a comprende:\n\n 	guida locale\n 	accompagnatore\n 	biglietti museo\n\nLa 
 quota non comprende:\n\n 	quanto non incluso alla voce "la quota comprende
 "\n\nClicka qui per vedere il regolamento completo delle gite e le condizi
 oni di pagamento e rimborso (si aprirà una nuova pagina)
ATTACH;FMTTYPE=image/jpeg:https://aspasso.org/it/wp-content/uploads/2025/1
 2/San_Lazzaro_degli_Armeni_Venice_aerial_photo_RDX.jpg
CATEGORIES:Culturali,Eventi
LOCATION:Venezia - San Lazzaro degli Armeni\, San Lazzaro degli Armeni\, Ve
 nezia\, VE\, Italia
X-APPLE-STRUCTURED-LOCATION;VALUE=URI;X-ADDRESS=San Lazzaro degli Armeni\, 
 Venezia\, VE\, Italia;X-APPLE-RADIUS=100;X-TITLE=Venezia - San Lazzaro deg
 li Armeni:geo:0,0
END:VEVENT
END:VCALENDAR