BEGIN:VCALENDAR
VERSION:2.0
PRODID:-//wp-events-plugin.com//7.2.3.1//EN
BEGIN:VEVENT
UID:8@aspasso.org
DTSTART:20260419T093000Z
DTEND:20260419T163000Z
DTSTAMP:20260417T133709Z
URL:https://aspasso.org/it/events/a-spasso-allisola-di-santerasmo-una-pass
 eggiata-nel-giardino-di-venezia/
SUMMARY:A S’passo all’isola di Sant’Erasmo\, una passeggiata nel giar
 dino di Venezia
DESCRIPTION:Sant'Erasmo\, un'isola a pochi passi da Venezia\, è nota come 
 "l'orto di Venezia" grazie alla vasta gamma di tonalità di verde lussureg
 giante che la caratterizza\, creando un meraviglioso mosaico paesaggistico
 .\nPer scoprire questo tesoro nascosto\, abbiamo pensato a una visita ined
 ita\, attraverso una piacevole passeggiata di circa 8 km che ci porterà a
  percorrere l'intero perimetro dell'isola a piedi. Lungo il percorso avrem
 o modo di ammirare la bellezza di questo luogo e di conoscere meglio la su
 a storia e le sue tradizioni. In particolare\, visiteremo un'azienda agric
 ola che produce le famose "castraure"\, i pregiati carciofi violetti tipic
 i dell'isola. Per raggiungere Sant'Erasmo\, utilizzeremo un mezzo privato.
  Siete pronti a scoprire questo angolo di paradiso?\n\nCapo gita: Silvia\n
 Orario e luogo di ritrovo: h. 9.30 stazione di Santa Lucia Ve\, uscendo so
 tto le scalinate a destra vicino la panchina\n\nDettagli:\n\n 	imbarco con
  mezzi privati fino all'isola\,\n 	passeggiata periplo dell'isola di sant'
 Erasmo circa 8 km\n 	pranzo libero (possibilità  di ristorante o bar dov
 e faremo la sosta)\n 	rientro 16.30 circa fine gita in Stazione\n\nLa quot
 a comprende:\n\n 	Accompagnatore\n 	biglietto visita guidata in azienda ag
 ricola\n 	barca privata per gli spostamenti\n\nLa quota non comprende:\n\n
  	pranzo\n 	quanto non incluso alla voce "la quota comprende"\n\nClicka qu
 i per vedere il regolamento completo delle gite e le condizioni di pagamen
 to e rimborso (si aprirà una nuova pagina)
ATTACH;FMTTYPE=image/jpeg:https://aspasso.org/it/wp-content/uploads/2025/1
 2/IMG_20230416_134503-scaled.jpg
CATEGORIES:Culturali,Eventi
LOCATION:Venezia - Isola Sant'Erasmo\, Isola Sant'Erasmo\, Venezia\, VE\, V
 eneto\, Italia
X-APPLE-STRUCTURED-LOCATION;VALUE=URI;X-ADDRESS=Isola Sant'Erasmo\, Venezia
 \, VE\, Veneto\, Italia;X-APPLE-RADIUS=100;X-TITLE=Venezia - Isola Sant'Er
 asmo:geo:0,0
END:VEVENT
END:VCALENDAR