BEGIN:VCALENDAR
VERSION:2.0
PRODID:-//wp-events-plugin.com//7.2.3.1//EN
BEGIN:VEVENT
UID:16@aspasso.org
DTSTART:20260509T143000Z
DTEND:20260509T163000Z
DTSTAMP:20260228T215214Z
URL:https://aspasso.org/it/events/a-spasso-allorto-botanico-di-padova/
SUMMARY:A S’passo all'Orto Botanico di Padova
DESCRIPTION:Visiteremo l’Orto Botanico di Padova\, fondato nel 1545\, il 
 più antico al mondo ancora nella sua collocazione originaria.\nSituato in
  un’area di circa 2\,2 ettari\, si trova nel centro storico di Padova\, 
 nei pressi del Prato della Valle.\nAl suo interno oltre 3500 specie differ
 enti\, tra cui piante secolari\, la più vecchia presente fin dal lontano 
 1585!\nDal 1997 è Patrimonio dell’Umanità dell’UNESCO\n\nCapo gita: 
 Silvia\nOrario e luogo di ritrovo: h. 14.10 davanti alla Basilica di Sant'
 Antonio a Padova\n\nDettagli:\n\n  	visita guidata all'Orto Botanico di Pa
 dova\n 	h.16.30 termine della visita\n\nLa quota comprende:\n\n 	biglietto
  di ingresso\n 	accompagnatore\n 	visita guidata all'interno dell'Orto Bot
 anico\n\nLa quota non comprende:\n\n 	quanto non incluso alla voce "la quo
 ta comprende"\n\nClicka qui per vedere il regolamento completo delle gite 
 e le condizioni di pagamento e rimborso (si aprirà una nuova pagina)
ATTACH;FMTTYPE=image/jpeg:https://aspasso.org/it/wp-content/uploads/2026/0
 2/orto23.jpg
CATEGORIES:Culturali,Eventi
LOCATION:Padova\, Città\, Padova\, PD\, Veneto\, Italia
X-APPLE-STRUCTURED-LOCATION;VALUE=URI;X-ADDRESS=Città\, Padova\, PD\, Vene
 to\, Italia;X-APPLE-RADIUS=100;X-TITLE=Padova:geo:0,0
END:VEVENT
END:VCALENDAR