BEGIN:VCALENDAR
VERSION:2.0
PRODID:-//wp-events-plugin.com//7.2.3.1//EN
BEGIN:VEVENT
UID:11@aspasso.org
DTSTART:20260517T093000Z
DTEND:20260517T170000Z
DTSTAMP:20260223T153955Z
URL:https://aspasso.org/it/events/a-spasso-per-le-isole-di-venezia/
SUMMARY:A S’passo per le isole di Venezia
DESCRIPTION:Non si può dire di aver visto veramente Venezia se non si sono
  visitate anche sue isole che dal 1987 sono patrimonio dell’UNESCO.\nFar
 emo un bel tour in barca per visitare MURANO\, BURANO\, MAZZORBO e SAN FRA
 NCESCO DEL DESERTO.\nSbarcheremo a Murano per ammirare il lavoro di un mae
 stro vetraio\, a Burano faremo una passeggiata fra merletti e colori\, a M
 azzorbo passeggeremo nei suoi giardini\, concluderemo infine a San Frances
 co del Deserto\, dove visiteremo il Monastero\n\nCapo gita: Silvia\nOrario
  e luogo di ritrovo: h. 9.30 stazione Santa Lucia scendendo sotto la scali
 nata a destra vicino alla panchina\n\nDettagli:\n\n 	imbarco su barca priv
 ata (non serve la carta Venezia)\n 	Murano con visita ad una vetreria\n 	v
 isita di Burano\n 	sosta libera per pranzo\n 	passeggiata a Mazzorbo\n 	vi
 sita privata a San Francesco del Deserto\n 	sbarco h. 16.30/17.00 circa\n\
 nLa quota comprende:\n\n 	trasporto barca privata\n 	accompagnatore\n 	gui
 da in barca\n 	biglietto per la visita alla vetreria\n 	offerta ai Frati a
  San Francesco del Deserto\n\nLa quota non comprende:\n\n 	pranzo\n 	quant
 o non incluso alla voce "la quota comprende"\n\nClicka qui per vedere il r
 egolamento completo delle gite e le condizioni di pagamento e rimborso (si
  aprirà una nuova pagina)
ATTACH;FMTTYPE=image/jpeg:https://aspasso.org/it/wp-content/uploads/2025/1
 2/isole_venezia_RDX.jpg
CATEGORIES:Culturali,Eventi
LOCATION:Venezia\, Isole Lagunari\, Venezia\, VE\, Veneto\, Italia
X-APPLE-STRUCTURED-LOCATION;VALUE=URI;X-ADDRESS=Isole Lagunari\, Venezia\, 
 VE\, Veneto\, Italia;X-APPLE-RADIUS=100;X-TITLE=Venezia:geo:0,0
END:VEVENT
END:VCALENDAR