BEGIN:VCALENDAR
VERSION:2.0
PRODID:-//wp-events-plugin.com//7.2.3.1//EN
BEGIN:VEVENT
UID:12@aspasso.org
DTSTART:20260530T100000Z
DTEND:20260530T170000Z
DTSTAMP:20260312T110013Z
URL:https://aspasso.org/it/events/pittura-en-plein-air-tra-i-fiori-di-loto
 /
SUMMARY:Pittura en plein air tra i fiori di loto
DESCRIPTION:Un’occasione unica: trascorrere una giornata con Cristina Zuc
 chi\, insegnante di pittura e arte terapeuta.\nPennello in mano\, respiran
 do bellezza\, un incontro in cui l’arte dialoga con la natura.\n\nImmers
 i nella quiete di un vivaio di fiori di loto\, ninfee e altre meraviglie\,
  vivremo l’esperienza della pittura en plein air\, lasciandoci guidare d
 a colori\, riflessi e profumi d’acqua.\n\nCapo gita: Viviana\nOrario e l
 uogo di ritrovo: Vivaio Hydrophyllum via Gaianighe 35013 Cittadella Padova
  - h 10.00 sessione mattino (o intera giornata) - h 14.00 sessione pomerid
 iana\n\nDettagli:\n\n 	materiale a carico dei partecipanti: tela\, pennell
 i\, colori\, sgabello\, cavalletto\n 	si suggeriscono le eventuali protezi
 oni solari adatte al periodo per chi ne avesse necessità (cappellino\, cr
 ema solare\, ecc.)\n 	possibilità opzionale di accedere alla Bio-Piscina 
 (uno specchio d'acqua balneabile con una filtrazione naturale\, effettuata
  dalle piante e dai batteri "positivi”) con biglietto specifico da acqui
 stare sul posto al prezzo di Euro 8\,00/persona\n 	pausa per pranzo libero
  alla fine della sessione della mattina\n\nLa quota comprende:\n\n 	accomp
 agnatore\n 	insegnante di pittura\n\nLa quota non comprende:\n\n 	pranzo\n
  	accesso alla Bio-Piscina\n 	quanto non incluso alla voce "la quota compr
 ende"\n\nClicka qui per vedere il regolamento completo delle gite e le con
 dizioni di pagamento e rimborso (si aprirà una nuova pagina)
ATTACH;FMTTYPE=image/jpeg:https://aspasso.org/it/wp-content/uploads/2025/1
 2/pittura_en_plein_air.jpg
CATEGORIES:Culturali,Eventi
LOCATION:Vivaio Fiori di Loto\, via Gaianighe\, Cittadella\, PD\, 35013\, V
 eneto\, Italia
X-APPLE-STRUCTURED-LOCATION;VALUE=URI;X-ADDRESS=via Gaianighe\, Cittadella\
 , PD\, 35013\, Veneto\, Italia;X-APPLE-RADIUS=100;X-TITLE=Vivaio Fiori di 
 Loto:geo:0,0
END:VEVENT
END:VCALENDAR